{"text_format":"1","workbook":"xlsx","n_sheets":9,"sheets":["Feuil1","Nage-no-Kata_5G","Nage-no-Kata 3G","NAGE-NO-KATA","KATAME-NO-KATA","KIME-NO-KATA","JU-NO-KATA","GOSHIN","Resultats"],"not_rendered":{"charts":0,"images":0,"macros":0,"external_links":0,"defined_names":0,"comments":0,"pivot_tables":0},"unopened":[],"bounds":{"document_bytes":16777216,"sheet_cells":100000,"rows_first":2000,"rows_last":500,"rows_between":2000,"halvings":0,"cell_chars":16384,"cell_head_chars":4096},"cells_cut":0,"cells_raw":0,"read":"whole","date_system":"1900"}

{"sheet":"Feuil1","index":0,"n_rows":42,"n_cols":4,"rows_kept":42,"cut":false,"hidden":false,"merged":[]}
[]
["Juge 1","Petites fautes",1,18]
[null,"Fautes moyennes",3,10]
[null,"Grandes fautes",5,1]
[null,"Correction plus","-0.5"]
[null,"Correction moins","+0.5"]
[null,"Techniques oubliées",10]
[null,"Total",null,{"$f":"IF(D7<1,(170-((D2*1)+(D3*3)+(D4*5)+(D5*0.5)-(D6*0.5)+(D7*10))),((170-((D2*1)+(D3*3)+(D4*5)+(D5*0.5)-(D6*0.5)+(D7*10)))/2))","v":117}]
[]
["Juge 2","Petites fautes",1,15]
[null,"Fautes moyennes",3,6]
[null,"Grandes fautes",5,5]
[null,"Correction plus","-0.5",2]
[null,"Correction moins","+0.5",4]
[null,"Techniques oubliées",10]
[null,"Total",null,{"$f":"IF(D15<1,(170-((D10*1)+(D11*3)+(D12*5)+(D13*0.5)-(D14*0.5)+(D15*10))),((170-((D10*1)+(D11*3)+(D12*5)+(D13*0.5)-(D14*0.5)+(D15*10)))/2))","v":113}]
[]
["Juge 3","Petites fautes",1,5]
[null,"Fautes moyennes",3,13]
[null,"Grandes fautes",5,3]
[null,"Correction plus","-0.5"]
[null,"Correction moins","+0.5"]
[null,"Techniques oubliées",10]
[null,"Total",null,{"$f":"IF(D23<1,(170-((D18*1)+(D19*3)+(D20*5)+(D21*0.5)-(D22*0.5)+(D23*10))),((170-((D18*1)+(D19*3)+(D20*5)+(D21*0.5)-(D22*0.5)+(D23*10)))/2))","v":111}]
[]
["Juge 4","Petites fautes",1,14]
[null,"Fautes moyennes",3,11]
[null,"Grandes fautes",5,3]
[null,"Correction plus","-0.5"]
[null,"Correction moins","+0.5"]
[null,"Techniques oubliées",10]
[null,"Total",null,{"$f":"IF(D31<1,(170-((D26*1)+(D27*3)+(D28*5)+(D29*0.5)-(D30*0.5)+(D31*10))),((170-((D26*1)+(D27*3)+(D28*5)+(D29*0.5)-(D30*0.5)+(D31*10)))/2))","v":108}]
[]
["Juge 5","Petites fautes",1,16]
[null,"Fautes moyennes",3,7]
[null,"Grandes fautes",5,5]
[null,"Correction plus","-0.5",4]
[null,"Correction moins","+0.5",2]
[null,"Techniques oubliées",10]
[null,"Total",null,{"$f":"IF(D39<1,(170-((D34*1)+(D35*3)+(D36*5)+(D37*0.5)-(D38*0.5)+(D39*10))),((170-((D34*1)+(D35*3)+(D36*5)+(D37*0.5)-(D38*0.5)+(D39*10)))/2))","v":107}]
[]
[null,null,null,{"$f":"(D8+D16+D24+D32+D40)-(MIN(D8,D16,D24,D32,D40))-(MAX(D8,D16,D24,D32,D40))","v":332}]

{"sheet":"Nage-no-Kata_5G","index":1,"n_rows":12,"n_cols":42,"rows_kept":12,"cut":false,"hidden":false,"merged":[[3,1,3,7],[3,9,3,15],[3,17,3,23],[3,25,3,31],[3,33,3,39]]}
[]
[null,"NAGE-NO-KATA_5G",null,null,null,null,null,null,null,null,null,null,null,170]
[]
[null,"Juge 1",null,null,null,null,null,null,null,"Juge 2",null,null,null,null,null,null,null,"Juge 3",null,null,null,null,null,null,null,"Juge 4",null,null,null,null,null,null,null,"Juge 5"]
[null,"Petites fautes","Fautes moyennes","Grandes fautes","Correction plus","Correction moins","Techniques oubliées","Total Juge 1",null,"Petites fautes","Fautes moyennes","Grandes fautes","Correction plus","Correction moins","Techniques oubliées","Total Juge 2",null,"Petites fautes","Fautes moyennes","Grandes fautes","Correction plus","Correction moins","Techniques oubliées","Total Juge 3",null,"Petites fautes","Fautes moyennes","Grandes fautes","Correction plus","Correction moins","Techniques oubliées","Total Juge 4",null,"Petites fautes","Fautes moyennes","Grandes fautes","Correction plus","Correction moins","Techniques oubliées","Total Juge 5"]
[null,1,3,5,"-0.5","+0.5",10,null,null,1,3,5,"-0.5","+0.5",10,null,null,1,3,5,"-0.5","+0.5",10,null,null,1,3,5,"-0.5","+0.5",10,null,null,1,3,5,"-0.5","+0.5",10]
[]
["Paire 1",18,10,1,null,null,null,{"$f":"IF(G8<1,($N$2-((B8*1)+(C8*3)+(D8*5)+(E8*0.5)-(F8*0.5)+(G8*10))),((170-((B8*1)+(C8*3)+(D8*5)+(E8*0.5)-(F8*0.5)+(G8*10)))/2))","v":117},null,15,6,5,2,4,null,{"$f":"IF(O8<1,($N$2-((J8*1)+(K8*3)+(L8*5)+(M8*0.5)-(N8*0.5)+(O8*10))),($N$2-((J8*1)+(K8*3)+(L8*5)+(M8*0.5)-(N8*0.5)+(O8*10)))/2)","v":113},null,5,13,3,null,null,null,{"$f":"IF(W8<1,($N$2-((R8*1)+(S8*3)+(T8*5)+(U8*0.5)-(V8*0.5)+(W8*10))),(($N$2-((R8*1)+(S8*3)+(T8*5)+(U8*0.5)-(V8*0.5)+(W8*10)))/2))","v":111},null,14,11,3,null,null,null,{"$f":"IF(AE8<1,($N$2-((Z8*1)+(AA8*3)+(AB8*5)+(AC8*0.5)-(AD8*0.5)+(AE8*10))),(($N$2-((Z8*1)+(AA8*3)+(AB8*5)+(AC8*0.5)-(AD8*0.5)+(AE8*10)))/2))","v":108},null,16,7,5,4,2,null,{"$f":"IF(AM8<1,($N$2-((AH8*1)+(AI8*3)+(AJ8*5)+(AK8*0.5)-(AL8*0.5)+(AM8*10))),(($N$2-((AH8*1)+(AI8*3)+(AJ8*5)+(AK8*0.5)-(AL8*0.5)+(AM8*10)))/2))","v":107},null,{"$f":"(H8+P8+X8+AF8+AN8)-(MIN(H8,P8,X8,AF8,AN8))-(MAX(H8,P8,X8,AF8,AN8))","v":332}]
["Paire 2",null,null,null,null,null,null,{"$f":"IF(G9<1,($N$2-((B9*1)+(C9*3)+(D9*5)+(E9*0.5)-(F9*0.5)+(G9*10))),((170-((B9*1)+(C9*3)+(D9*5)+(E9*0.5)-(F9*0.5)+(G9*10)))/2))","v":170},null,null,null,null,null,null,null,{"$f":"IF(O9<1,($N$2-((J9*1)+(K9*3)+(L9*5)+(M9*0.5)-(N9*0.5)+(O9*10))),($N$2-((J9*1)+(K9*3)+(L9*5)+(M9*0.5)-(N9*0.5)+(O9*10)))/2)","v":170},null,null,null,null,null,null,null,{"$f":"IF(W9<1,($N$2-((R9*1)+(S9*3)+(T9*5)+(U9*0.5)-(V9*0.5)+(W9*10))),(($N$2-((R9*1)+(S9*3)+(T9*5)+(U9*0.5)-(V9*0.5)+(W9*10)))/2))","v":170},null,null,null,null,null,null,null,{"$f":"IF(AE9<1,($N$2-((Z9*1)+(AA9*3)+(AB9*5)+(AC9*0.5)-(AD9*0.5)+(AE9*10))),(($N$2-((Z9*1)+(AA9*3)+(AB9*5)+(AC9*0.5)-(AD9*0.5)+(AE9*10)))/2))","v":170},null,null,null,null,null,null,null,{"$f":"IF(AM9<1,($N$2-((AH9*1)+(AI9*3)+(AJ9*5)+(AK9*0.5)-(AL9*0.5)+(AM9*10))),(($N$2-((AH9*1)+(AI9*3)+(AJ9*5)+(AK9*0.5)-(AL9*0.5)+(AM9*10)))/2))","v":170},null,{"$f":"(H9+P9+X9+AF9+AN9)-(MIN(H9,P9,X9,AF9,AN9))-(MAX(H9,P9,X9,AF9,AN9))","v":510}]
["Paire 3",null,null,null,null,null,null,{"$f":"IF(G10<1,($N$2-((B10*1)+(C10*3)+(D10*5)+(E10*0.5)-(F10*0.5)+(G10*10))),((170-((B10*1)+(C10*3)+(D10*5)+(E10*0.5)-(F10*0.5)+(G10*10)))/2))","v":170},null,null,null,null,null,null,null,{"$f":"IF(O10<1,($N$2-((J10*1)+(K10*3)+(L10*5)+(M10*0.5)-(N10*0.5)+(O10*10))),($N$2-((J10*1)+(K10*3)+(L10*5)+(M10*0.5)-(N10*0.5)+(O10*10)))/2)","v":170},null,null,null,null,null,null,null,{"$f":"IF(W10<1,($N$2-((R10*1)+(S10*3)+(T10*5)+(U10*0.5)-(V10*0.5)+(W10*10))),(($N$2-((R10*1)+(S10*3)+(T10*5)+(U10*0.5)-(V10*0.5)+(W10*10)))/2))","v":170},null,null,null,null,null,null,null,{"$f":"IF(AE10<1,($N$2-((Z10*1)+(AA10*3)+(AB10*5)+(AC10*0.5)-(AD10*0.5)+(AE10*10))),(($N$2-((Z10*1)+(AA10*3)+(AB10*5)+(AC10*0.5)-(AD10*0.5)+(AE10*10)))/2))","v":170},null,null,null,null,null,null,null,{"$f":"IF(AM10<1,($N$2-((AH10*1)+(AI10*3)+(AJ10*5)+(AK10*0.5)-(AL10*0.5)+(AM10*10))),(($N$2-((AH10*1)+(AI10*3)+(AJ10*5)+(AK10*0.5)-(AL10*0.5)+(AM10*10)))/2))","v":170},null,510]
["Paire 4",null,null,null,null,null,null,{"$f":"IF(G11<1,($N$2-((B11*1)+(C11*3)+(D11*5)+(E11*0.5)-(F11*0.5)+(G11*10))),((170-((B11*1)+(C11*3)+(D11*5)+(E11*0.5)-(F11*0.5)+(G11*10)))/2))","v":170},null,null,null,null,null,null,null,{"$f":"IF(O11<1,($N$2-((J11*1)+(K11*3)+(L11*5)+(M11*0.5)-(N11*0.5)+(O11*10))),($N$2-((J11*1)+(K11*3)+(L11*5)+(M11*0.5)-(N11*0.5)+(O11*10)))/2)","v":170},null,null,null,null,null,null,null,{"$f":"IF(W11<1,($N$2-((R11*1)+(S11*3)+(T11*5)+(U11*0.5)-(V11*0.5)+(W11*10))),(($N$2-((R11*1)+(S11*3)+(T11*5)+(U11*0.5)-(V11*0.5)+(W11*10)))/2))","v":170},null,null,null,null,null,null,null,{"$f":"IF(AE11<1,($N$2-((Z11*1)+(AA11*3)+(AB11*5)+(AC11*0.5)-(AD11*0.5)+(AE11*10))),(($N$2-((Z11*1)+(AA11*3)+(AB11*5)+(AC11*0.5)-(AD11*0.5)+(AE11*10)))/2))","v":170},null,null,null,null,null,null,null,{"$f":"IF(AM11<1,($N$2-((AH11*1)+(AI11*3)+(AJ11*5)+(AK11*0.5)-(AL11*0.5)+(AM11*10))),(($N$2-((AH11*1)+(AI11*3)+(AJ11*5)+(AK11*0.5)-(AL11*0.5)+(AM11*10)))/2))","v":170},null,510]
["Paire 5",null,null,null,null,null,null,{"$f":"IF(G12<1,($N$2-((B12*1)+(C12*3)+(D12*5)+(E12*0.5)-(F12*0.5)+(G12*10))),((170-((B12*1)+(C12*3)+(D12*5)+(E12*0.5)-(F12*0.5)+(G12*10)))/2))","v":170},null,null,null,null,null,null,null,{"$f":"IF(O12<1,($N$2-((J12*1)+(K12*3)+(L12*5)+(M12*0.5)-(N12*0.5)+(O12*10))),($N$2-((J12*1)+(K12*3)+(L12*5)+(M12*0.5)-(N12*0.5)+(O12*10)))/2)","v":170},null,null,null,null,null,null,null,{"$f":"IF(W12<1,($N$2-((R12*1)+(S12*3)+(T12*5)+(U12*0.5)-(V12*0.5)+(W12*10))),(($N$2-((R12*1)+(S12*3)+(T12*5)+(U12*0.5)-(V12*0.5)+(W12*10)))/2))","v":170},null,null,null,null,null,null,null,{"$f":"IF(AE12<1,($N$2-((Z12*1)+(AA12*3)+(AB12*5)+(AC12*0.5)-(AD12*0.5)+(AE12*10))),(($N$2-((Z12*1)+(AA12*3)+(AB12*5)+(AC12*0.5)-(AD12*0.5)+(AE12*10)))/2))","v":170},null,null,null,null,null,null,null,{"$f":"IF(AM12<1,($N$2-((AH12*1)+(AI12*3)+(AJ12*5)+(AK12*0.5)-(AL12*0.5)+(AM12*10))),(($N$2-((AH12*1)+(AI12*3)+(AJ12*5)+(AK12*0.5)-(AL12*0.5)+(AM12*10)))/2))","v":170},null,510]

{"sheet":"Nage-no-Kata 3G","index":2,"n_rows":16,"n_cols":43,"rows_kept":16,"cut":false,"hidden":false,"merged":[[6,34,6,40],[4,2,4,10],[6,2,6,8],[6,10,6,16],[6,18,6,24],[6,26,6,32]]}
[null,null,"CHAMPIONNAT SUISSE DE KATA / SCHWEIZER KATA MEISTERSCHAFT"]
[null,null,"WINTERTHUR, LE 17 JUIN 2018"]
[]
[]
[null,null,"NAGE-NO-KATA_3G",null,null,null,null,null,null,null,null,null,110]
[]
[null,null,"Juge 1",null,null,null,null,null,null,null,"Juge 2",null,null,null,null,null,null,null,"Juge 3",null,null,null,null,null,null,null,"Juge 4",null,null,null,null,null,null,null,"Juge 5"]
[null,null,"Petites fautes","Fautes moyennes","Grandes fautes","Correction moins","Correction plus","Techniques oubliées","Total Juge 1",null,"Petites fautes","Fautes moyennes","Grandes fautes","Correction moins","Correction plus","Techniques oubliées","Total Juge 2",null,"Petites fautes","Fautes moyennes","Grandes fautes","Correction moins","Correction plus","Techniques oubliées","Total Juge 3",null,"Petites fautes","Fautes moyennes","Grandes fautes","Correction moins","Correction plus","Techniques oubliées","Total Juge 4",null,"Petites fautes","Fautes moyennes","Grandes fautes","Correction moins","Correction plus","Techniques oubliées","Total Juge 5"]
[null,null,1,3,5,"-0.5","+0.5",10,null,null,1,3,5,"-0.5","+0.5",10,null,null,1,3,5,"-0.5","+0.5",10,null,null,1,3,5,"-0.5","+0.5",10,null,null,1,3,5,"-0.5","+0.5",10]
[]
[1,"KAMBER Hector - KAMBER Emma",null,null,null,null,null,null,{"$f":"IF(H11<1,($M$5-((C11*1)+(D11*3)+(E11*5)+(F11*0.5)-(G11*0.5)+(H11*10))),(($M$5-((C11*1)+(D11*3)+(E11*5)+(F11*0.5)-(G11*0.5)+(H11*10)))/2))","v":110},null,null,null,null,null,null,null,{"$f":"IF(P11<1,($M$5-((K11*1)+(L11*3)+(M11*5)+(N11*0.5)-(O11*0.5)+(P11*10))),($M$5-((K11*1)+(L11*3)+(M11*5)+(N11*0.5)-(O11*0.5)+(P11*10)))/2)","v":110},null,null,null,null,null,null,null,{"$f":"IF(X11<1,($M$5-((S11*1)+(T11*3)+(U11*5)+(V11*0.5)-(W11*0.5)+(X11*10))),(($M$5-((S11*1)+(T11*3)+(U11*5)+(V11*0.5)-(W11*0.5)+(X11*10)))/2))","v":110},null,null,null,null,null,null,null,{"$f":"IF(AF11<1,($M$5-((AA11*1)+(AB11*3)+(AC11*5)+(AD11*0.5)-(AE11*0.5)+(AF11*10))),(($M$5-((AA11*1)+(AB11*3)+(AC11*5)+(AD11*0.5)-(AE11*0.5)+(AF11*10)))/2))","v":110},null,null,null,null,null,null,null,{"$f":"IF(AN11<1,($M$5-((AI11*1)+(AJ11*3)+(AK11*5)+(AL11*0.5)-(AM11*0.5)+(AN11*10))),(($M$5-((AI11*1)+(AJ11*3)+(AK11*5)+(AL11*0.5)-(AM11*0.5)+(AN11*10)))/2))","v":110},null,{"$f":"(I11+Q11+Y11+AG11+AO11)-(MIN(I11,Q11,Y11,AG11,AO11))-(MAX(I11,Q11,Y11,AG11,AO11))","v":330}]
[2,"ZÜRCHER Mael - WERNLI Nadine",null,null,null,null,null,null,{"$f":"IF(H12<1,($M$5-((C12*1)+(D12*3)+(E12*5)+(F12*0.5)-(G12*0.5)+(H12*10))),(($M$5-((C12*1)+(D12*3)+(E12*5)+(F12*0.5)-(G12*0.5)+(H12*10)))/2))","v":110},null,null,null,null,null,null,null,110,null,null,null,null,null,null,null,110,null,null,null,null,null,null,null,110,null,null,null,null,null,null,null,110,null,{"$f":"(I12+Q12+Y12+AG12+AO12)-(MIN(I12,Q12,Y12,AG12,AO12))-(MAX(I12,Q12,Y12,AG12,AO12))","v":330}]
[3,"ASTON Victoria - STRÖSLIN Leonie",null,null,null,null,null,null,110,null,null,null,null,null,null,null,110,null,null,null,null,null,null,null,110,null,null,null,null,null,null,null,110,null,null,null,null,null,null,null,110,null,330]
[4,"BRÄNDLE Shaila - UHLMANN Laura",null,null,null,null,null,null,110,null,null,null,null,null,null,null,110,null,null,null,null,null,null,null,110,null,null,null,null,null,null,null,110,null,null,null,null,null,null,null,110,null,330]
[5,"GEX-FABRY Félicie - VITELLOZZI Ricardo",null,null,null,null,null,null,110,null,null,null,null,null,null,null,110,null,null,null,null,null,null,null,110,null,null,null,null,null,null,null,110,null,null,null,null,null,null,null,110,null,330]
[6,"BIGOT Yoan - GEX-FABRY Candide",null,null,null,null,null,null,{"$f":"IF(H16<1,($M$5-((C16*1)+(D16*3)+(E16*5)+(F16*0.5)-(G16*0.5)+(H16*10))),(($M$5-((C16*1)+(D16*3)+(E16*5)+(F16*0.5)-(G16*0.5)+(H16*10)))/2))","v":110},null,null,null,null,null,null,null,110,null,null,null,null,null,null,null,110,null,null,null,null,null,null,null,110,null,null,null,null,null,null,null,110,null,{"$f":"(I16+Q16+Y16+AG16+AO16)-(MIN(I16,Q16,Y16,AG16,AO16))-(MAX(I16,Q16,Y16,AG16,AO16))","v":330}]

{"sheet":"NAGE-NO-KATA","index":3,"n_rows":16,"n_cols":43,"rows_kept":16,"cut":false,"hidden":false,"merged":[[6,2,6,8],[6,34,6,40],[6,26,6,32],[6,18,6,24],[6,10,6,16]]}
[null,null,"CHAMPIONNAT SUISSE DE KATA / SCHWEIZER KATA MEISTERSCHAFT"]
[null,null,"WINTERTHUR, LE 17 JUIN 2018"]
[]
[]
[null,null,"NAGE-NO-KATA",null,null,null,null,null,null,null,170]
[]
[null,null,"Juge 1",null,null,null,null,null,null,null,"Juge 2",null,null,null,null,null,null,null,"Juge 3",null,null,null,null,null,null,null,"Juge 4",null,null,null,null,null,null,null,"Juge 5"]
[null,null,"Petites fautes","Fautes moyennes","Grandes fautes","Correction moins","Correction plus","Techniques oubliées","Total juge 1",null,"Petites fautes","Fautes moyennes","Grandes fautes","Correction moins","Correction plus","Techniques oubliées","Total Juge 2",null,"Petites fautes","Fautes moyennes","Grandes fautes","Correction moins","Correction plus","Techniques oubliées","Total Juge 3",null,"Petites fautes","Fautes moyennes","Grandes fautes","Correction moins","Correction plus","Techniques oubliées","Total Juge 4",null,"Petites fautes","Fautes moyennes","Grandes fautes","Correction moins","Correction plus","Techniques oubliées","Total Juge 5"]
[null,null,1,3,5,"-0.5","+0.5",10,10,null,1,3,5,"-0.5","+0.5",10,null,null,1,3,5,"-0.5","+0.5",10,null,null,1,3,5,"-0.5","+0.5",10,null,null,1,3,5,"-0.5","+0.5",10]
[null,null,null,null,null,null,null,null,{"$f":"IF(H10<1,(#REF!-((C10*1)+(D10*3)+(E10*5)+(F10*0.5)-(G10*0.5)+(H10*10))),((#REF!-((C10*1)+(D10*3)+(E10*5)+(F10*0.5)-(G10*0.5)+(H10*10)))/2))","v":{"$error":"#REF!"}}]
[1,"REZGALLAH Yassin - REZGALLAH Samy",null,null,null,null,null,null,{"$f":"IF(H11<1,($K$5-((C11*1)+(D11*3)+(E11*5)+(F11*0.5)-(G11*0.5)+(H11*10))),(($K$5-((C11*1)+(D11*3)+(E11*5)+(F11*0.5)-(G11*0.5)+(H11*10)))/2))","v":170},null,null,null,null,null,null,null,{"$f":"IF(P11<1,($K$5-((K11*1)+(L11*3)+(M11*5)+(N11*0.5)-(O11*0.5)+(P11*10))),($K$5-((K11*1)+(L11*3)+(M11*5)+(N11*0.5)-(O11*0.5)+(P11*10)))/2)","v":170},null,null,null,null,null,null,1,{"$f":"IF(X11<1,($K$5-((S11*1)+(T11*3)+(U11*5)+(V11*0.5)-(W11*0.5)+(X11*10))),(($K$5-((S11*1)+(T11*3)+(U11*5)+(V11*0.5)-(W11*0.5)+(X11*10)))/2))","v":80},null,null,null,null,null,null,1,{"$f":"IF(AF11<1,($K$5-((AA11*1)+(AB11*3)+(AC11*5)+(AD11*0.5)-(AE11*0.5)+(AF11*10))),(($K$5-((AA11*1)+(AB11*3)+(AC11*5)+(AD11*0.5)-(AE11*0.5)+(AF11*10)))/2))","v":80},null,null,null,null,null,null,null,{"$f":"IF(AN11<1,($K$5-((AI11*1)+(AJ11*3)+(AK11*5)+(AL11*0.5)-(AM11*0.5)+(AN11*10))),(($K$5-((AI11*1)+(AJ11*3)+(AK11*5)+(AL11*0.5)-(AM11*0.5)+(AN11*10)))/2))","v":170},null,{"$f":"(I11+Q11+Y11+AG11+AO11)-(MIN(I11,Q11,Y11,AG11,AO11))-(MAX(I11,Q11,Y11,AG11,AO11))","v":420}]
[2,"WEBER Gian-Lucca - HEGER Serafin",null,null,null,null,null,null,170,null,null,null,null,null,null,null,170,null,null,null,null,null,null,null,170,null,null,null,null,null,null,null,170,null,null,null,null,null,null,null,170,null,510]
[3,"DÜRRENBERGER Reto - BRANDT Dominik",null,null,null,null,null,null,170,null,null,null,null,null,null,null,170,null,null,null,null,null,null,null,170,null,null,null,null,null,null,null,170,null,null,null,null,null,null,null,170,null,510]
[4,"PANDOLFI Zacharie - PANDOLFI Al",null,null,null,null,null,null,170,null,null,null,null,null,null,null,170,null,null,null,null,null,null,null,170,null,null,null,null,null,null,null,170,null,null,null,null,null,null,null,170,null,510]
[5,"KÜBLER Michèle - STAUFFER Sonia",null,null,null,null,null,null,170,null,null,null,null,null,null,null,170,null,null,null,null,null,null,null,170,null,null,null,null,null,null,null,170,null,null,null,null,null,null,null,170,null,510]
[6,"MOSER Dominic - MOSER Yanick",null,null,null,null,null,null,170,null,null,null,null,null,null,null,170,null,null,null,null,null,null,null,170,null,null,null,null,null,null,null,170,null,null,null,null,null,null,null,170,null,510]

{"sheet":"KATAME-NO-KATA","index":4,"n_rows":15,"n_cols":43,"rows_kept":15,"cut":false,"hidden":false,"merged":[[6,2,6,8],[6,10,6,16],[6,18,6,24],[6,26,6,32],[6,34,6,40]]}
[null,null,"CHAMPIONNAT SUISSE DE KATA / SCHWEIZER KATA MEISTERSCHAFT"]
[null,null,"WINTERTHUR, LE 17 JUIN 2018"]
[]
[]
[null,null,"KATAME-NO-KATA",null,null,null,null,null,null,null,null,null,null,null,170]
[]
[null,null,"Juge 1",null,null,null,null,null,null,null,"Juge 2",null,null,null,null,null,null,null,"Juge 3",null,null,null,null,null,null,null,"Juge 4",null,null,null,null,null,null,null,"Juge 5"]
[null,null,"Petites fautes","Fautes moyennes","Grandes fautes","Correction moins","Correction plus","Techniques oubliées","Total Juge 1",null,"Petites fautes","Fautes moyennes","Grandes fautes","Correction moins","Correction plus","Techniques oubliées","Total Juge 2",null,"Petites fautes","Fautes moyennes","Grandes fautes","Correction moins","Correction plus","Techniques oubliées","Total Juge 3",null,"Petites fautes","Fautes moyennes","Grandes fautes","Correction moins","Correction plus","Techniques oubliées","Total Juge 4",null,"Petites fautes","Fautes moyennes","Grandes fautes","Correction moins","Correction plus","Techniques oubliées","Total Juge 5"]
[null,null,1,3,5,"-0.5","+0.5",10,null,null,1,3,5,"-0.5","+0.5",10,null,null,1,3,5,"-0.5","+0.5",10,null,null,1,3,5,"-0.5","+0.5",10,null,null,1,3,5,"-0.5","+0.5",10]
[]
[1,"DÜRRENBERGER Reto - BRANDT Dominik",null,null,null,null,null,null,{"$f":"IF(H11<1,($O$5-((C11*1)+(D11*3)+(E11*5)+(F11*0.5)-(G11*0.5)+(H11*10))),($O$5-((C11*1)+(D11*3)+(E11*5)+(F11*0.5)-(G11*0.5)+(H11*10)))/2)","v":170},null,null,null,null,null,null,null,{"$f":"IF(P11<1,($O$5-((K11*1)+(L11*3)+(M11*5)+(N11*0.5)-(O11*0.5)+(P11*10))),($O$5-((K11*1)+(L11*3)+(M11*5)+(N11*0.5)-(O11*0.5)+(P11*10)))/2)","v":170},null,null,null,null,null,null,null,{"$f":"IF(X11<1,($O$5-((S11*1)+(T11*3)+(U11*5)+(V11*0.5)-(W11*0.5)+(X11*10))),(($O$5-((S11*1)+(T11*3)+(U11*5)+(V11*0.5)-(W11*0.5)+(X11*10)))/2))","v":170},null,null,null,null,null,null,null,{"$f":"IF(AF11<1,($O$5-((AA11*1)+(AB11*3)+(AC11*5)+(AD11*0.5)-(AE11*0.5)+(AF11*10))),(($O$5-((AA11*1)+(AB11*3)+(AC11*5)+(AD11*0.5)-(AE11*0.5)+(AF11*10)))/2))","v":170},null,null,null,null,null,null,null,{"$f":"IF(AN11<1,($O$5-((AI11*1)+(AJ11*3)+(AK11*5)+(AL11*0.5)-(AM11*0.5)+(AN11*10))),(($O$5-((AI11*1)+(AJ11*3)+(AK11*5)+(AL11*0.5)-(AM11*0.5)+(AN11*10)))/2))","v":170},null,{"$f":"(I11+Q11+Y11+AG11+AO11)-(MIN(I11,Q11,Y11,AG11,AO11))-(MAX(I11,Q11,Y11,AG11,AO11))","v":510}]
[2,"STAHLI Désirée - STAHLI Sarah",null,null,null,null,null,null,{"$f":"IF(H12<1,($O$5-((C12*1)+(D12*3)+(E12*5)+(F12*0.5)-(G12*0.5)+(H12*10))),($O$5-((C12*1)+(D12*3)+(E12*5)+(F12*0.5)-(G12*0.5)+(H12*10)))/2)","v":170},null,null,null,null,null,null,null,{"$f":"IF(P12<1,($O$5-((K12*1)+(L12*3)+(M12*5)+(N12*0.5)-(O12*0.5)+(P12*10))),($O$5-((K12*1)+(L12*3)+(M12*5)+(N12*0.5)-(O12*0.5)+(P12*10)))/2)","v":170},null,null,null,null,null,null,null,{"$f":"IF(X12<1,($O$5-((S12*1)+(T12*3)+(U12*5)+(V12*0.5)-(W12*0.5)+(X12*10))),(($O$5-((S12*1)+(T12*3)+(U12*5)+(V12*0.5)-(W12*0.5)+(X12*10)))/2))","v":170},null,null,null,null,null,null,null,{"$f":"IF(AF12<1,($O$5-((AA12*1)+(AB12*3)+(AC12*5)+(AD12*0.5)-(AE12*0.5)+(AF12*10))),(($O$5-((AA12*1)+(AB12*3)+(AC12*5)+(AD12*0.5)-(AE12*0.5)+(AF12*10)))/2))","v":170},null,null,null,null,null,null,null,{"$f":"IF(AN12<1,($O$5-((AI12*1)+(AJ12*3)+(AK12*5)+(AL12*0.5)-(AM12*0.5)+(AN12*10))),(($O$5-((AI12*1)+(AJ12*3)+(AK12*5)+(AL12*0.5)-(AM12*0.5)+(AN12*10)))/2))","v":170},null,{"$f":"(I12+Q12+Y12+AG12+AO12)-(MIN(I12,Q12,Y12,AG12,AO12))-(MAX(I12,Q12,Y12,AG12,AO12))","v":510}]
[3,"STAUFFER Sonia - KÜBLER Michèle",null,null,null,null,null,null,{"$f":"IF(H13<1,($O$5-((C13*1)+(D13*3)+(E13*5)+(F13*0.5)-(G13*0.5)+(H13*10))),($O$5-((C13*1)+(D13*3)+(E13*5)+(F13*0.5)-(G13*0.5)+(H13*10)))/2)","v":170},null,null,null,null,null,null,null,{"$f":"IF(P13<1,($O$5-((K13*1)+(L13*3)+(M13*5)+(N13*0.5)-(O13*0.5)+(P13*10))),($O$5-((K13*1)+(L13*3)+(M13*5)+(N13*0.5)-(O13*0.5)+(P13*10)))/2)","v":170},null,null,null,null,null,null,null,{"$f":"IF(X13<1,($O$5-((S13*1)+(T13*3)+(U13*5)+(V13*0.5)-(W13*0.5)+(X13*10))),(($O$5-((S13*1)+(T13*3)+(U13*5)+(V13*0.5)-(W13*0.5)+(X13*10)))/2))","v":170},null,null,null,null,null,null,null,{"$f":"IF(AF13<1,($O$5-((AA13*1)+(AB13*3)+(AC13*5)+(AD13*0.5)-(AE13*0.5)+(AF13*10))),(($O$5-((AA13*1)+(AB13*3)+(AC13*5)+(AD13*0.5)-(AE13*0.5)+(AF13*10)))/2))","v":170},null,null,null,null,null,null,null,{"$f":"IF(AN13<1,($O$5-((AI13*1)+(AJ13*3)+(AK13*5)+(AL13*0.5)-(AM13*0.5)+(AN13*10))),(($O$5-((AI13*1)+(AJ13*3)+(AK13*5)+(AL13*0.5)-(AM13*0.5)+(AN13*10)))/2))","v":170},null,510]
[null,null,null,null,null,null,null,null,{"$f":"IF(H14<1,($O$5-((C14*1)+(D14*3)+(E14*5)+(F14*0.5)-(G14*0.5)+(H14*10))),($O$5-((C14*1)+(D14*3)+(E14*5)+(F14*0.5)-(G14*0.5)+(H14*10)))/2)","v":170},null,null,null,null,null,null,null,{"$f":"IF(P14<1,($O$5-((K14*1)+(L14*3)+(M14*5)+(N14*0.5)-(O14*0.5)+(P14*10))),($O$5-((K14*1)+(L14*3)+(M14*5)+(N14*0.5)-(O14*0.5)+(P14*10)))/2)","v":170},null,null,null,null,null,null,null,{"$f":"IF(X14<1,($O$5-((S14*1)+(T14*3)+(U14*5)+(V14*0.5)-(W14*0.5)+(X14*10))),(($O$5-((S14*1)+(T14*3)+(U14*5)+(V14*0.5)-(W14*0.5)+(X14*10)))/2))","v":170},null,null,null,null,null,null,null,{"$f":"IF(AF14<1,($O$5-((AA14*1)+(AB14*3)+(AC14*5)+(AD14*0.5)-(AE14*0.5)+(AF14*10))),(($O$5-((AA14*1)+(AB14*3)+(AC14*5)+(AD14*0.5)-(AE14*0.5)+(AF14*10)))/2))","v":170},null,null,null,null,null,null,null,{"$f":"IF(AN14<1,($O$5-((AI14*1)+(AJ14*3)+(AK14*5)+(AL14*0.5)-(AM14*0.5)+(AN14*10))),(($O$5-((AI14*1)+(AJ14*3)+(AK14*5)+(AL14*0.5)-(AM14*0.5)+(AN14*10)))/2))","v":170},null,510]
[null,null,null,null,null,null,null,null,{"$f":"IF(H15<1,($O$5-((C15*1)+(D15*3)+(E15*5)+(F15*0.5)-(G15*0.5)+(H15*10))),($O$5-((C15*1)+(D15*3)+(E15*5)+(F15*0.5)-(G15*0.5)+(H15*10)))/2)","v":170},null,null,null,null,null,null,null,{"$f":"IF(P15<1,($O$5-((K15*1)+(L15*3)+(M15*5)+(N15*0.5)-(O15*0.5)+(P15*10))),($O$5-((K15*1)+(L15*3)+(M15*5)+(N15*0.5)-(O15*0.5)+(P15*10)))/2)","v":170},null,null,null,null,null,null,null,{"$f":"IF(X15<1,($O$5-((S15*1)+(T15*3)+(U15*5)+(V15*0.5)-(W15*0.5)+(X15*10))),(($O$5-((S15*1)+(T15*3)+(U15*5)+(V15*0.5)-(W15*0.5)+(X15*10)))/2))","v":170},null,null,null,null,null,null,null,{"$f":"IF(AF15<1,($O$5-((AA15*1)+(AB15*3)+(AC15*5)+(AD15*0.5)-(AE15*0.5)+(AF15*10))),(($O$5-((AA15*1)+(AB15*3)+(AC15*5)+(AD15*0.5)-(AE15*0.5)+(AF15*10)))/2))","v":170},null,null,null,null,null,null,null,{"$f":"IF(AN15<1,($O$5-((AI15*1)+(AJ15*3)+(AK15*5)+(AL15*0.5)-(AM15*0.5)+(AN15*10))),(($O$5-((AI15*1)+(AJ15*3)+(AK15*5)+(AL15*0.5)-(AM15*0.5)+(AN15*10)))/2))","v":170},null,510]

{"sheet":"KIME-NO-KATA","index":5,"n_rows":15,"n_cols":43,"rows_kept":15,"cut":false,"hidden":false,"merged":[[6,2,6,8],[6,10,6,16],[6,18,6,24],[6,26,6,32],[6,34,6,40]]}
[null,null,"CHAMPIONNAT SUISSE DE KATA / SCHWEIZER KATA MEISTERSCHAFT"]
[null,null,"WINTERTHUR, LE 17 JUIN 2018"]
[]
[]
[null,null,"KIME-NO-KATA",null,null,null,null,null,null,null,220]
[]
[null,null,"Juge 1",null,null,null,null,null,null,null,"Juge 2",null,null,null,null,null,null,null,"Juge 3",null,null,null,null,null,null,null,"Juge 4",null,null,null,null,null,null,null,"Juge 5"]
[null,null,"Petites fautes","Fautes moyennes","Grandes fautes","Correction moins","Correction plus","Techniques oubliées","Total Juge 1",null,"Petites fautes","Fautes moyennes","Grandes fautes","Correction moins","Correction plus","Techniques oubliées","Total Juge 2",null,"Petites fautes","Fautes moyennes","Grandes fautes","Correction moins","Correction plus","Techniques oubliées","Total Juge 3",null,"Petites fautes","Fautes moyennes","Grandes fautes","Correction moins","Correction plus","Techniques oubliées","Total Juge 4",null,"Petites fautes","Fautes moyennes","Grandes fautes","Correction moins","Correction plus","Techniques oubliées","Total Juge 5"]
[null,null,1,3,5,"-0.5","+0.5",10,null,null,1,3,5,"-0.5","+0.5",10,null,null,1,3,5,"-0.5","+0.5",10,null,null,1,3,5,"-0.5","+0.5",10,null,null,1,3,5,"-0.5","+0.5",10]
[]
[1,"LOY Karine - BAYEJOO Pascal",null,null,null,null,null,null,{"$f":"IF(H11<1,($K$5-((C11*1)+(D11*3)+(E11*5)+(F11*0.5)-(G11*0.5)+(H11*10))),($K$5-((C11*1)+(D11*3)+(E11*5)+(F11*0.5)-(G11*0.5)+(H11*10)))/2)","v":220},null,null,null,null,null,null,null,{"$f":"IF(P11<1,($K$5-((K11*1)+(L11*3)+(M11*5)+(N11*0.5)-(O11*0.5)+(P11*10))),($K$5-((K11*1)+(L11*3)+(M11*5)+(N11*0.5)-(O11*0.5)+(P11*10)))/2)","v":220},null,null,null,null,null,null,null,{"$f":"IF(X11<1,($K$5-((S11*1)+(T11*3)+(U11*5)+(V11*0.5)-(W11*0.5)+(X11*10))),(($K$5-((S11*1)+(T11*3)+(U11*5)+(V11*0.5)-(W11*0.5)+(X11*10)))/2))","v":220},null,null,null,null,null,null,null,{"$f":"IF(AF11<1,($K$5-((AA11*1)+(AB11*3)+(AC11*5)+(AD11*0.5)-(AE11*0.5)+(AF11*10))),(($K$5-((AA11*1)+(AB11*3)+(AC11*5)+(AD11*0.5)-(AE11*0.5)+(AF11*10)))/2))","v":220},null,null,null,null,null,null,null,{"$f":"IF(AN11<1,($K$5-((AI11*1)+(AJ11*3)+(AK11*5)+(AL11*0.5)-(AM11*0.5)+(AN11*10))),(($K$5-((AI11*1)+(AJ11*3)+(AK11*5)+(AL11*0.5)-(AM11*0.5)+(AN11*10)))/2))","v":220},null,{"$f":"(I11+Q11+Y11+AG11+AO11)-(MIN(I11,Q11,Y11,AG11,AO11))-(MAX(I11,Q11,Y11,AG11,AO11))","v":660}]
[2,"BUSIGNY Denis - VILLEMIN Pascal",null,null,null,null,null,null,{"$f":"IF(H12<1,($K$5-((C12*1)+(D12*3)+(E12*5)+(F12*0.5)-(G12*0.5)+(H12*10))),($K$5-((C12*1)+(D12*3)+(E12*5)+(F12*0.5)-(G12*0.5)+(H12*10)))/2)","v":220},null,null,null,null,null,null,null,{"$f":"IF(P12<1,($K$5-((K12*1)+(L12*3)+(M12*5)+(N12*0.5)-(O12*0.5)+(P12*10))),($K$5-((K12*1)+(L12*3)+(M12*5)+(N12*0.5)-(O12*0.5)+(P12*10)))/2)","v":220},null,null,null,null,null,null,null,{"$f":"IF(X12<1,($K$5-((S12*1)+(T12*3)+(U12*5)+(V12*0.5)-(W12*0.5)+(X12*10))),(($K$5-((S12*1)+(T12*3)+(U12*5)+(V12*0.5)-(W12*0.5)+(X12*10)))/2))","v":220},null,null,null,null,null,null,null,{"$f":"IF(AF12<1,($K$5-((AA12*1)+(AB12*3)+(AC12*5)+(AD12*0.5)-(AE12*0.5)+(AF12*10))),(($K$5-((AA12*1)+(AB12*3)+(AC12*5)+(AD12*0.5)-(AE12*0.5)+(AF12*10)))/2))","v":220},null,null,null,null,null,null,null,{"$f":"IF(AN12<1,($K$5-((AI12*1)+(AJ12*3)+(AK12*5)+(AL12*0.5)-(AM12*0.5)+(AN12*10))),(($K$5-((AI12*1)+(AJ12*3)+(AK12*5)+(AL12*0.5)-(AM12*0.5)+(AN12*10)))/2))","v":220},null,{"$f":"(I12+Q12+Y12+AG12+AO12)-(MIN(I12,Q12,Y12,AG12,AO12))-(MAX(I12,Q12,Y12,AG12,AO12))","v":660}]
[3,"UHLMANN Patrizia - SALUD Carlos",null,null,null,null,null,null,220,null,null,null,null,null,null,null,220,null,null,null,null,null,null,null,220,null,null,null,null,null,null,null,220,null,null,null,null,null,null,null,220,null,660]
[null,null,null,null,null,null,null,null,220,null,null,null,null,null,null,null,220,null,null,null,null,null,null,null,220,null,null,null,null,null,null,null,220,null,null,null,null,null,null,null,220,null,660]
[null,null,null,null,null,null,null,null,220,null,null,null,null,null,null,null,220,null,null,null,null,null,null,null,220,null,null,null,null,null,null,null,220,null,null,null,null,null,null,null,220,null,660]

{"sheet":"JU-NO-KATA","index":6,"n_rows":15,"n_cols":43,"rows_kept":15,"cut":false,"hidden":false,"merged":[[6,2,6,8],[6,10,6,16],[6,18,6,24],[6,26,6,32],[6,34,6,40]]}
[null,null,"CHAMPIONNAT SUISSE DE KATA / SCHWEIZER KATA MEISTERSCHAFT"]
[null,null,"WINTERTHUR, LE 17 JUIN 2018"]
[]
[]
[null,null,"JU-NO-KATA",null,null,null,null,null,null,null,170]
[]
[null,null,"Juge 1",null,null,null,null,null,null,null,"Juge 2",null,null,null,null,null,null,null,"Juge 3",null,null,null,null,null,null,null,"Juge 4",null,null,null,null,null,null,null,"Juge 5"]
[null,null,"Petites fautes","Fautes moyennes","Grandes fautes","Correction moins","Correction plus","Techniques oubliées","Total Juge 1",null,"Petites fautes","Fautes moyennes","Grandes fautes","Correction moins","Correction plus","Techniques oubliées","Total Juge 2",null,"Petites fautes","Fautes moyennes","Grandes fautes","Correction moins","Correction plus","Techniques oubliées","Total Juge 3",null,"Petites fautes","Fautes moyennes","Grandes fautes","Correction moins","Correction plus","Techniques oubliées","Total Juge 4",null,"Petites fautes","Fautes moyennes","Grandes fautes","Correction moins","Correction plus","Techniques oubliées","Total Juge 5"]
[null,null,1,3,5,"-0.5","+0.5",10,null,null,1,3,5,"-0.5","+0.5",10,null,null,1,3,5,"-0.5","+0.5",10,null,null,1,3,5,"-0.5","+0.5",10,null,null,1,3,5,"-0.5","+0.5",10]
[]
[1,"DUPRE Pascal - KUNZMANN Laura",null,null,null,null,null,null,{"$f":"IF(H11<1,($K$5-((C11*1)+(D11*3)+(E11*5)+(F11*0.5)-(G11*0.5)+(H11*10))),($K$5-((C11*1)+(D11*3)+(E11*5)+(F11*0.5)-(G11*0.5)+(H11*10)))/2)","v":170},null,null,null,null,null,null,null,{"$f":"IF(P11<1,($K$5-((K11*1)+(L11*3)+(M11*5)+(N11*0.5)-(O11*0.5)+(P11*10))),($K$5-((K11*1)+(L11*3)+(M11*5)+(N11*0.5)-(O11*0.5)+(P11*10)))/2)","v":170},null,null,null,null,null,null,null,{"$f":"IF(X11<1,($K$5-((S11*1)+(T11*3)+(U11*5)+(V11*0.5)-(W11*0.5)+(X11*10))),(($K$5-((S11*1)+(T11*3)+(U11*5)+(V11*0.5)-(W11*0.5)+(X11*10)))/2))","v":170},null,null,null,null,null,null,null,{"$f":"IF(AF11<1,($K$5-((AA11*1)+(AB11*3)+(AC11*5)+(AD11*0.5)-(AE11*0.5)+(AF11*10))),(($K$5-((AA11*1)+(AB11*3)+(AC11*5)+(AD11*0.5)-(AE11*0.5)+(AF11*10)))/2))","v":170},null,null,null,null,null,null,null,{"$f":"IF(AN11<1,($K$5-((AI11*1)+(AJ11*3)+(AK11*5)+(AL11*0.5)-(AM11*0.5)+(AN11*10))),(($K$5-((AI11*1)+(AJ11*3)+(AK11*5)+(AL11*0.5)-(AM11*0.5)+(AN11*10)))/2))","v":170},null,{"$f":"(I11+Q11+Y11+AG11+AO11)-(MIN(I11,Q11,Y11,AG11,AO11))-(MAX(I11,Q11,Y11,AG11,AO11))","v":510}]
[2,"STAHLI Désirée - STAHLI Sarah",null,null,null,null,null,null,{"$f":"IF(H12<1,($K$5-((C12*1)+(D12*3)+(E12*5)+(F12*0.5)-(G12*0.5)+(H12*10))),($K$5-((C12*1)+(D12*3)+(E12*5)+(F12*0.5)-(G12*0.5)+(H12*10)))/2)","v":170},null,null,null,null,null,null,null,{"$f":"IF(P12<1,($K$5-((K12*1)+(L12*3)+(M12*5)+(N12*0.5)-(O12*0.5)+(P12*10))),($K$5-((K12*1)+(L12*3)+(M12*5)+(N12*0.5)-(O12*0.5)+(P12*10)))/2)","v":170},null,null,null,null,null,null,null,{"$f":"IF(X12<1,($K$5-((S12*1)+(T12*3)+(U12*5)+(V12*0.5)-(W12*0.5)+(X12*10))),(($K$5-((S12*1)+(T12*3)+(U12*5)+(V12*0.5)-(W12*0.5)+(X12*10)))/2))","v":170},null,null,null,null,null,null,null,{"$f":"IF(AF12<1,($K$5-((AA12*1)+(AB12*3)+(AC12*5)+(AD12*0.5)-(AE12*0.5)+(AF12*10))),(($K$5-((AA12*1)+(AB12*3)+(AC12*5)+(AD12*0.5)-(AE12*0.5)+(AF12*10)))/2))","v":170},null,null,null,null,null,null,null,{"$f":"IF(AN12<1,($K$5-((AI12*1)+(AJ12*3)+(AK12*5)+(AL12*0.5)-(AM12*0.5)+(AN12*10))),(($K$5-((AI12*1)+(AJ12*3)+(AK12*5)+(AL12*0.5)-(AM12*0.5)+(AN12*10)))/2))","v":170},null,{"$f":"(I12+Q12+Y12+AG12+AO12)-(MIN(I12,Q12,Y12,AG12,AO12))-(MAX(I12,Q12,Y12,AG12,AO12))","v":510}]
[3,"PILLER Madeleine - KOCH Thomas",null,null,null,null,null,null,170,null,null,null,null,null,null,null,170,null,null,null,null,null,null,null,170,null,null,null,null,null,null,null,170,null,null,null,null,null,null,null,170,null,510]
[4,"BENEY Fabrice - JEANNERET-BERRUEX Laurence",null,null,null,null,null,null,170,null,null,null,null,null,null,null,170,null,null,null,null,null,null,null,170,null,null,null,null,null,null,null,170,null,null,null,null,null,null,null,170,null,510]
[5,"BUSIGNY Denis - BUSIGNY Aurelie",null,null,null,null,null,null,170,null,null,null,null,null,null,null,170,null,null,null,null,null,null,null,170,null,null,null,null,null,null,null,170,null,null,null,null,null,null,null,170,null,510]

{"sheet":"GOSHIN","index":7,"n_rows":15,"n_cols":43,"rows_kept":15,"cut":false,"hidden":false,"merged":[[6,2,6,8],[6,10,6,16],[6,18,6,24],[6,26,6,32],[6,34,6,40]]}
[null,null,"CHAMPIONNAT SUISSE DE KATA / SCHWEIZER KATA MEISTERSCHAFT"]
[null,null,"WINTERTHUR, LE 17 JUIN 2018"]
[]
[]
[null,null,"KODOKAN GOSHIN JUTSU",null,null,null,null,null,null,null,null,null,null,null,null,230]
[]
[null,null,"Juge 1",null,null,null,null,null,null,null,"Juge 2",null,null,null,null,null,null,null,"Juge 3",null,null,null,null,null,null,null,"Juge 4",null,null,null,null,null,null,null,"Juge 5"]
[null,null,"Petites fautes","Fautes moyennes","Grandes fautes","Correction moins","Correction plus","Techniques oubliées","Total Juge 1",null,"Petites fautes","Fautes moyennes","Grandes fautes","Correction moins","Correction plus","Techniques oubliées","Total Juge 2",null,"Petites fautes","Fautes moyennes","Grandes fautes","Correction moins","Correction plus","Techniques oubliées","Total Juge 3",null,"Petites fautes","Fautes moyennes","Grandes fautes","Correction moins","Correction plus","Techniques oubliées","Total Juge 4",null,"Petites fautes","Fautes moyennes","Grandes fautes","Correction moins","Correction plus","Techniques oubliées","Total Juge 5"]
[null,null,1,3,5,"-0.5","+0.5",10,null,null,1,3,5,"-0.5","+0.5",10,null,null,1,3,5,"-0.5","+0.5",10,null,null,1,3,5,"-0.5","+0.5",10,null,null,1,3,5,"-0.5","+0.5",10]
[]
[1,"STAUFFER-IMBODEN Karine - LOY Karine",null,null,null,null,null,null,{"$f":"IF(H11<1,($P$5-((C11*1)+(D11*3)+(E11*5)+(F11*0.5)-(G11*0.5)+(H11*10))),($P$5-((C11*1)+(D11*3)+(E11*5)+(F11*0.5)-(G11*0.5)+(H11*10)))/2)","v":230},null,null,null,null,null,null,null,{"$f":"IF(P11<1,($P$5-((K11*1)+(L11*3)+(M11*5)+(N11*0.5)-(O11*0.5)+(P11*10))),($P$5-((K11*1)+(L11*3)+(M11*5)+(N11*0.5)-(O11*0.5)+(P11*10)))/2)","v":230},null,null,null,null,null,null,null,{"$f":"IF(X11<1,($P$5-((S11*1)+(T11*3)+(U11*5)+(V11*0.5)-(W11*0.5)+(X11*10))),(($P$5-((S11*1)+(T11*3)+(U11*5)+(V11*0.5)-(W11*0.5)+(X11*10)))/2))","v":230},null,null,null,null,null,null,null,{"$f":"IF(AF11<1,($P$5-((AA11*1)+(AB11*3)+(AC11*5)+(AD11*0.5)-(AE11*0.5)+(AF11*10))),(($P$5-((AA11*1)+(AB11*3)+(AC11*5)+(AD11*0.5)-(AE11*0.5)+(AF11*10)))/2))","v":230},null,null,null,null,null,null,null,{"$f":"IF(AN11<1,($P$5-((AI11*1)+(AJ11*3)+(AK11*5)+(AL11*0.5)-(AM11*0.5)+(AN11*10))),(($P$5-((AI11*1)+(AJ11*3)+(AK11*5)+(AL11*0.5)-(AM11*0.5)+(AN11*10)))/2))","v":230},null,{"$f":"(I11+Q11+Y11+AG11+AO11)-(MIN(I11,Q11,Y11,AG11,AO11))-(MAX(I11,Q11,Y11,AG11,AO11))","v":690}]
[2,"GABERELL Denise - TURANO Alberto",null,null,null,null,null,null,{"$f":"IF(H12<1,($P$5-((C12*1)+(D12*3)+(E12*5)+(F12*0.5)-(G12*0.5)+(H12*10))),($P$5-((C12*1)+(D12*3)+(E12*5)+(F12*0.5)-(G12*0.5)+(H12*10)))/2)","v":230},null,null,null,null,null,null,null,{"$f":"IF(P12<1,($P$5-((K12*1)+(L12*3)+(M12*5)+(N12*0.5)-(O12*0.5)+(P12*10))),($P$5-((K12*1)+(L12*3)+(M12*5)+(N12*0.5)-(O12*0.5)+(P12*10)))/2)","v":230},null,null,null,null,null,null,null,{"$f":"IF(X12<1,($P$5-((S12*1)+(T12*3)+(U12*5)+(V12*0.5)-(W12*0.5)+(X12*10))),(($P$5-((S12*1)+(T12*3)+(U12*5)+(V12*0.5)-(W12*0.5)+(X12*10)))/2))","v":230},null,null,null,null,null,null,null,{"$f":"IF(AF12<1,($P$5-((AA12*1)+(AB12*3)+(AC12*5)+(AD12*0.5)-(AE12*0.5)+(AF12*10))),(($P$5-((AA12*1)+(AB12*3)+(AC12*5)+(AD12*0.5)-(AE12*0.5)+(AF12*10)))/2))","v":230},null,null,null,null,null,null,1,{"$f":"IF(AN12<1,($P$5-((AI12*1)+(AJ12*3)+(AK12*5)+(AL12*0.5)-(AM12*0.5)+(AN12*10))),(($P$5-((AI12*1)+(AJ12*3)+(AK12*5)+(AL12*0.5)-(AM12*0.5)+(AN12*10)))/2))","v":110},null,{"$f":"(I12+Q12+Y12+AG12+AO12)-(MIN(I12,Q12,Y12,AG12,AO12))-(MAX(I12,Q12,Y12,AG12,AO12))","v":690}]
[null,null,null,null,null,null,null,null,230,null,null,null,null,null,null,null,{"$f":"IF(P13<1,($P$5-((K13*1)+(L13*3)+(M13*5)+(N13*0.5)-(O13*0.5)+(P13*10))),($P$5-((K13*1)+(L13*3)+(M13*5)+(N13*0.5)-(O13*0.5)+(P13*10)))/2)","v":230},null,null,null,null,null,null,null,{"$f":"IF(X13<1,($P$5-((S13*1)+(T13*3)+(U13*5)+(V13*0.5)-(W13*0.5)+(X13*10))),(($P$5-((S13*1)+(T13*3)+(U13*5)+(V13*0.5)-(W13*0.5)+(X13*10)))/2))","v":230},null,null,null,null,null,null,null,{"$f":"IF(AF13<1,($P$5-((AA13*1)+(AB13*3)+(AC13*5)+(AD13*0.5)-(AE13*0.5)+(AF13*10))),(($P$5-((AA13*1)+(AB13*3)+(AC13*5)+(AD13*0.5)-(AE13*0.5)+(AF13*10)))/2))","v":230},null,null,null,null,null,null,null,{"$f":"IF(AN13<1,($P$5-((AI13*1)+(AJ13*3)+(AK13*5)+(AL13*0.5)-(AM13*0.5)+(AN13*10))),(($P$5-((AI13*1)+(AJ13*3)+(AK13*5)+(AL13*0.5)-(AM13*0.5)+(AN13*10)))/2))","v":230},null,690]
[null,null,null,null,null,null,null,null,230,null,null,null,null,null,null,null,{"$f":"IF(P14<1,($P$5-((K14*1)+(L14*3)+(M14*5)+(N14*0.5)-(O14*0.5)+(P14*10))),($P$5-((K14*1)+(L14*3)+(M14*5)+(N14*0.5)-(O14*0.5)+(P14*10)))/2)","v":230},null,null,null,null,null,null,null,{"$f":"IF(X14<1,($P$5-((S14*1)+(T14*3)+(U14*5)+(V14*0.5)-(W14*0.5)+(X14*10))),(($P$5-((S14*1)+(T14*3)+(U14*5)+(V14*0.5)-(W14*0.5)+(X14*10)))/2))","v":230},null,null,null,null,null,null,null,{"$f":"IF(AF14<1,($P$5-((AA14*1)+(AB14*3)+(AC14*5)+(AD14*0.5)-(AE14*0.5)+(AF14*10))),(($P$5-((AA14*1)+(AB14*3)+(AC14*5)+(AD14*0.5)-(AE14*0.5)+(AF14*10)))/2))","v":230},null,null,null,null,null,null,null,{"$f":"IF(AN14<1,($P$5-((AI14*1)+(AJ14*3)+(AK14*5)+(AL14*0.5)-(AM14*0.5)+(AN14*10))),(($P$5-((AI14*1)+(AJ14*3)+(AK14*5)+(AL14*0.5)-(AM14*0.5)+(AN14*10)))/2))","v":230},null,690]
[null,null,null,null,null,null,null,null,230,null,null,null,null,null,null,null,{"$f":"IF(P15<1,($P$5-((K15*1)+(L15*3)+(M15*5)+(N15*0.5)-(O15*0.5)+(P15*10))),($P$5-((K15*1)+(L15*3)+(M15*5)+(N15*0.5)-(O15*0.5)+(P15*10)))/2)","v":230},null,null,null,null,null,null,null,{"$f":"IF(X15<1,($P$5-((S15*1)+(T15*3)+(U15*5)+(V15*0.5)-(W15*0.5)+(X15*10))),(($P$5-((S15*1)+(T15*3)+(U15*5)+(V15*0.5)-(W15*0.5)+(X15*10)))/2))","v":230},null,null,null,null,null,null,null,{"$f":"IF(AF15<1,($P$5-((AA15*1)+(AB15*3)+(AC15*5)+(AD15*0.5)-(AE15*0.5)+(AF15*10))),(($P$5-((AA15*1)+(AB15*3)+(AC15*5)+(AD15*0.5)-(AE15*0.5)+(AF15*10)))/2))","v":230},null,null,null,null,null,null,null,{"$f":"IF(AN15<1,($P$5-((AI15*1)+(AJ15*3)+(AK15*5)+(AL15*0.5)-(AM15*0.5)+(AN15*10))),(($P$5-((AI15*1)+(AJ15*3)+(AK15*5)+(AL15*0.5)-(AM15*0.5)+(AN15*10)))/2))","v":230},null,690]

{"sheet":"Resultats","index":8,"n_rows":45,"n_cols":4,"rows_kept":45,"cut":false,"hidden":false,"merged":[]}
[null,"CHAMPIONNAT SUISSE DE KATA 2018"]
[null,"SCHWEIZER KATA MEISTERSCHAFT 2018"]
[null,"WINTERTHUR, 17.06.2018"]
[]
[null,"Résultats / Ergebnisse"]
[]
[null,{"$f":"'NAGE-NO-KATA'!C5","v":"NAGE-NO-KATA"},"Points","%"]
[1,{"$f":"'NAGE-NO-KATA'!B13","v":"DÜRRENBERGER Reto - BRANDT Dominik"},426,{"$f":"C9/(170*3)","v":0.80490196078431375}]
[2,{"$f":"'NAGE-NO-KATA'!B14","v":"PANDOLFI Zacharie - PANDOLFI Al"},410.5,{"$f":"C10/(170*3)","v":0.76960784313725494}]
[3,{"$f":"'NAGE-NO-KATA'!B15","v":"KÜBLER Michèle - STAUFFER Sonia"},392.5,{"$f":"C11/(170*3)","v":0.76372549019607838}]
[4,{"$f":"'NAGE-NO-KATA'!B16","v":"MOSER Dominic - MOSER Yanick"},389.5,{"$f":"C12/(170*3)","v":0.73627450980392162}]
[5,{"$f":"'NAGE-NO-KATA'!B11","v":"REZGALLAH Yassin - REZGALLAH Samy"},375.5,{"$f":"C12/(170*3)","v":0.73627450980392162}]
[]
[null,"KATAME-NO-KATA"]
[1,{"$f":"'KATAME-NO-KATA'!B11","v":"DÜRRENBERGER Reto - BRANDT Dominik"},431,{"$f":"C15/(170*3)","v":0.84509803921568627}]
[2,{"$f":"'KATAME-NO-KATA'!B12","v":"STAHLI Désirée - STAHLI Sarah"},418.5,0.82058823529411762]
[3,{"$f":"'KATAME-NO-KATA'!B13","v":"STAUFFER Sonia - KÜBLER Michèle"},397,0.77843137254901962]
[]
[null,"KIME-NO.KATA"]
[1,{"$f":"'KIME-NO-KATA'!B11","v":"LOY Karine - BAYEJOO Pascal"},543,{"$f":"C20/(220*3)","v":0.82272727272727275}]
[2,{"$f":"'KIME-NO-KATA'!B12","v":"BUSIGNY Denis - VILLEMIN Pascal"},526,{"$f":"C21/(220*3)","v":0.79696969696969699}]
[3,"HERGER Serafin - WEBER Gian-Lucca",472,0.7151515151515152]
[4,{"$f":"'KIME-NO-KATA'!B13","v":"UHLMANN Patrizia - SALUD Carlos"},456,0.69090909090909092]
[]
[null,"JU-NO_KATA"]
[1,{"$f":"'JU-NO-KATA'!B14","v":"BENEY Fabrice - JEANNERET-BERRUEX Laurence"},420.5,{"$f":"C26/(170*3)","v":0.82450980392156858}]
[2,{"$f":"'JU-NO-KATA'!B11","v":"DUPRE Pascal - KUNZMANN Laura"},412.5,{"$f":"C27/(170*3)","v":0.80882352941176472}]
[3,{"$f":"'JU-NO-KATA'!B15","v":"BUSIGNY Denis - BUSIGNY Aurelie"},409.5,{"$f":"C28/(170*3)","v":0.80294117647058827}]
[4,{"$f":"'JU-NO-KATA'!B13","v":"PILLER Madeleine - KOCH Thomas"},388.5,{"$f":"C29/(170*3)","v":0.7617647058823529}]
[5,{"$f":"'JU-NO-KATA'!B12","v":"STAHLI Désirée - STAHLI Sarah"},375.5,{"$f":"C30/(170*3)","v":0.73627450980392162}]
[]
[null,"KODOKAN GOSHIN JUTSU"]
[1,{"$f":"GOSHIN!B11","v":"STAUFFER-IMBODEN Karine - LOY Karine"},605,{"$f":"C33/(230*3)","v":0.87681159420289856}]
[2,{"$f":"GOSHIN!B12","v":"GABERELL Denise - TURANO Alberto"},523,{"$f":"C34/(230*3)","v":0.75797101449275361}]
[]
[]
[null,"2ème TOURNOI NATIONAL DE NAGE-NO-KATA"]
[]
[null,"NAGE-NO-KATA JEUNES 3 SERIES"]
[1,{"$f":"'Nage-no-Kata 3G'!B13","v":"ASTON Victoria - STRÖSLIN Leonie"},256.5,{"$f":"C40/(110*3)","v":0.77727272727272723}]
[2,{"$f":"'Nage-no-Kata 3G'!B14","v":"BRÄNDLE Shaila - UHLMANN Laura"},241,{"$f":"C41/(110*3)","v":0.73030303030303034}]
[3,{"$f":"'Nage-no-Kata 3G'!B16","v":"BIGOT Yoan - GEX-FABRY Candide"},239,{"$f":"C42/(110*3)","v":0.72424242424242424}]
[4,{"$f":"'Nage-no-Kata 3G'!B15","v":"GEX-FABRY Félicie - VITELLOZZI Ricardo"},219.5,{"$f":"C43/(110*3)","v":0.66515151515151516}]
[5,{"$f":"'Nage-no-Kata 3G'!B11","v":"KAMBER Hector - KAMBER Emma"},186,{"$f":"C44/(110*3)","v":0.5636363636363636}]
[6,{"$f":"'Nage-no-Kata 3G'!B12","v":"ZÜRCHER Mael - WERNLI Nadine"},181,{"$f":"C45/(110*3)","v":0.54848484848484846}]